BEGIN:VCALENDAR
VERSION:2.0
PRODID:-//Kalender//
BEGIN:VEVENT
SUMMARY:Nachschulung Elektrofachkraft für festgelegte Tätigkeiten im SHK
 -Handwerk
DTSTART;TZID=Europe/Berlin:20260206T140000
DTEND;TZID=Europe/Berlin:20260207T150000
DTSTAMP:20260426T022752Z
UID:event_ical_eventmanagement_2166
DESCRIPTION:Wer die Qualifikation zur Elektrofachkraft für festgelegte T
 ätigkeiten erworben hat\, muss nach drei Jahren zu einer Nachschulung ant
 reten. Hierbei wird über neue Normen\, Vorschriften und Richtlinien der E
 lektrotechnik informiert. Weiterhin wird geprüft\, ob der Teilnehmer in d
 er Lage ist\, Fehler in Stromlaufplänen zu finden oder Messungen durchzuf
 ühren. Die Weiterbildung zur Elektrofachkraft befähigt aber nicht nur zu
 m Anschließen und in Betrieb nehmen elektrischer Anlagenteile. Durch den 
 Kurs wird ganz nebenher auch ein besseres Verständnis für die Funktionsw
 eise elektronischer Komponenten gefestigt.
LOCATION:Berufsbildungszentrum der Handwerkskammer Erfurt\, Alacher Chauss
 ee 10\, 99092 Erfurt-Bindersleben\, Deutschland
END:VEVENT
END:VCALENDAR
