BEGIN:VCALENDAR
VERSION:2.0
PRODID:-//Kalender//
BEGIN:VEVENT
SUMMARY:8. Fachtagung Heizungstechnik Tag 1
DTSTART;TZID=Europe/Berlin:20260210T083000
DTEND;TZID=Europe/Berlin:20260210T154500
DTSTAMP:20260426T022937Z
UID:event_ical_eventmanagement_2163
DESCRIPTION:Tag 1: Die 8. Fachtagung Heizungstechnik bietet Ihnen Gelegenh
 eit zur fachlichen Weiterbildung und zum Erfahrungsaustausch mit den Beruf
 skollegen sowie den Vertretern der Industrie. Im Mittelpunkt stehen die W
 ärmepumpe als steuerbare Verbrauchseinrichtung nach § 14a EnWG und die W
 armwasserbereitung mit Wärmepumpen im Geschosswohnungsbau. Weitere Progra
 mmpunkte behandeln Energiegesetze\, Förderprogramme\, Fördergeber und de
 ren Auswirkungen auf die Praxis sowie Erfahrungen aus der Sachverständige
 npraxis. Sinnvoll und verständlich möchten wir unsere Auftraggeber berat
 en\, um technische Lösungen für den Einsatz regenerativer Energien im Si
 nne des GEG und des Klimaschutzes anbieten zu können. Die Fachtagung wird
  von einer Fachausstellung begleitet. Tag 1 am 10.02.2026 ist für Meister
 \, Planer und Betriebsleiter. Tag 2 am 11.02.2026 ist die Installationspra
 xis für Meister\, Gesellen und Auszubildende.
LOCATION:ADAC Hessen-Thüringen e.V. Fahrsicherheits-Zentrum\, Gebreitestr
 aße 2\, 99428 Grammetal\, Deutschland
END:VEVENT
END:VCALENDAR
