BEGIN:VCALENDAR
VERSION:2.0
PRODID:-//Kalender//
BEGIN:VEVENT
SUMMARY:Bau- und Arbeitsrechtseminar
DTSTART;TZID=Europe/Berlin:20260224T090000
DTEND;TZID=Europe/Berlin:20260224T163000
DTSTAMP:20260426T022915Z
UID:event_ical_eventmanagement_2137
DESCRIPTION:Rechtssicher in allen Situationen ist die Grundlage für ein e
 rfolgreiches Unternehmen. Die Aufgaben und Zuständigkeitsbereiche werden 
 ständig komplexer. Neue gesetzliche Regelungen kommen hinzu. Bestehende G
 esetze werden verändert oder vorübergehend außer Kraft gesetzt. Hier de
 n Überblick zu behalten ist nicht leicht. Nutzen Sie unser Seminar in Pr
 äsenz\, um sich auf den neusten Stand zu bringen. Nehmen Sie unsere Handl
 ungsempfehlungen mit in Ihr Unternehmen\, damit Sie diese zielgerichtet um
 setzen können. Wir freuen uns auf eine rege Teilnahme und gute Diskussion
 sbeiträge. Schwerpunkte zum Baurecht Abnahme - Umgang mit Verzögerungstr
 icks der Auftraggeberseite Rechtsinhalt der Abnahme Regelungen zur Abnahme
  - Umgang mit rechtsunwirksamen AGB´s Formen der Abnahme Der einfache Weg
  zur Abnahme Umgang mit Abnahmeverweigerungen Die Bedeutung der Zustandsfe
 ststellung nach verweigerter Abnahme Schwerpunkte im Arbeitsrecht Verände
 rte Formerfordernisse im Arbeitsrecht im Nachgang des Bürgerentlastungsge
 setz\, sog. BEG IV Freistellungsansprüche und Vergütungsfragen für Mita
 rbeiter mit Ehrenamt in Feuerwehr\, Katastrophenschutz usw. aktuelle Recht
 sprechung Referenten:  Rechtsanwalt Dr. jur. Hans-Michael Dimanski Mitgli
 ed im AK Recht des ZVSHK Rechtsanwältin (Syndikusrechtsanwältin) Frau Ka
 thrin Stocky Arbeitsrechtliche Beraterin des Fachverbandes Sanitär Heizun
 g Klima Thüringen\, Mitglied im Arbeitskreis Recht des ZVSHK
LOCATION:Blank & Seegers KG\, Österholzstraße 1\, 99428 Grammetal\, Deut
 schland
END:VEVENT
END:VCALENDAR
