BEGIN:VCALENDAR
VERSION:2.0
PRODID:-//Kalender//
BEGIN:VEVENT
SUMMARY:Seminar Planung und Errichtung (PE) von Wärmepumpenanlagen nach V
 DI 4645-1 in Ein- und Mehrfamilienhäusern
DTSTART;TZID=Europe/Berlin:20260325T090000
DTEND;TZID=Europe/Berlin:20260327T170000
DTSTAMP:20260426T004007Z
UID:event_ical_eventmanagement_2136
DESCRIPTION:Ziel:  Die VDI 4645-1 behandelt die für die Planung von Wär
 mepumpenanlagen in Ein- und Mehrfamilienhäusern erforderlichen Schritte v
 on der Voruntersuchung und Konzepterstellung bis zur Detailplanung. Sie gi
 bt Hinweise zu empfohlenen hydraulischen Schaltungen\, zur Dimensionierung
  von Anlagenkomponenten\, zur Dokumentation\, zur Inbetriebnahme der Anlag
 e und Unterweisung des Betreibers und auch zu Kostenbetrachtungen. Im Anha
 ng der Richtlinie sind Checklisten und Beispiele zur Unterstützung der Vo
 rgehensweise bei der Planung enthalten. Auch das sinnvolle Zusammenwirken 
 mit anderen Anlagenbauteilen\, wie weiteren Wärmeerzeugern\, Wärmespeich
 erung\, -verteilung und -übergabe wird betrachtet. Nutzen: Die Schulung z
 ur VDI 4645-1 dient Ihnen zur Fortbildung sowie dem Erfahrungsaustausch zu
 r Erstellung von Gutachten. Der Lehrplan ist durch den Prozess der Konsens
 findung nach VDI 1000 abgesichert und daher Bestandteil einer allgemein an
 erkannten Regel der Technik zu sehen. Zielgruppe:   Sachverständige aus 
 dem SHK.\, Elektro- und Kältehandwerk Prüfung : Jeder Schulungsteilnehme
 r erhält nach der Schulung eine Teilnahmebescheinigung mit einem individu
 ellen Zugangscode\, welcher zur Prüfung berechtigt. Die Prüfung erfolgt 
 bei Bedarf im Nachgang online und innerhalb eines Zeitraumes von 6 Monaten
 . Themen: Überarbeitung der VDI 4645-1\, Anschluss Wärmepumpe und steuer
 bare Verbraucher an Smart Meter\, Außenaufstellung von Wärmepumpen mit b
 rennbaren Kältemitteln\, Auswertung von Hydraulikschemen\, Fehler bei der
  Installation\, Optimierung an der Wärmepumpenanlage\, praktisches Arbeit
 en an der Wärmepumpe.
LOCATION:Berufsbildungszentrum der Handwerkskammer Erfurt\, Alacher Chauss
 ee 10\, 99092 Erfurt-Bindersleben\, Deutschland
END:VEVENT
END:VCALENDAR
