BEGIN:VCALENDAR
VERSION:2.0
PRODID:-//Kalender//
BEGIN:VEVENT
SUMMARY:Seminar Planung und Errichtung (PE) von Wärmepumpenanlagen nach V
 DI 4645-1 in Ein- und Mehrfamilienhäusern
DTSTART;TZID=Europe/Berlin:20260225T090000
DTEND;TZID=Europe/Berlin:20260226T170000
DTSTAMP:20260426T022609Z
UID:event_ical_eventmanagement_2135
DESCRIPTION:Ziel:  Die VDI 4645-1 behandelt die für die Planung und Erri
 chtung von Wärmepumpenanlagen in Ein- und Mehrfamilienhäusern erforderli
 chen Schritte von der Voruntersuchung über die Detailplanung bis zur Inst
 allation. Sie gibt Hinweise zu empfohlenen hydraulischen Schaltungen\, zur
  Dimensionierung von Anlagenkomponenten\, zur Dokumentation\, zur Inbetrie
 bnahme der Anlage und Unterweisung des Betreibers und auch zu Kostenbetrac
 htungen. Im Anhang der Richtlinie sind Checklisten und Beispiele zur Unter
 stützung der Vorgehensweise bei der Planung sowie der Instandhaltung enth
 alten. Auch das sinnvolle Zusammenwirken mit anderen Anlagenbauteilen\, wi
 e weiteren Wärmeerzeugern\, der Speicherung\, Verteilung und Übergabe de
 r Wärme\, wird betrachtet. Zielgruppe:   Fachhandwerker*innen\, Planer*i
 nnen\, Anlagenmechaniker*innen Prüfung : Jeder Schulungsteilnehmer erhäl
 t nach der Schulung eine Teilnahmebescheinigung mit einem individuellen Zu
 gangscode\, welcher zur Prüfung berechtigt. Die Prüfung erfolgt im Nachg
 ang online und innerhalb eines Zeitraumes von 6 Monaten.  Nach erfolgreic
 her Prüfung erhält der Teilnehmer als Sachkundiger einen Qualifizierungs
 nachweis. Mit Diesem wird der Eintrag als zertifizierte Person in das zent
 rale Register des VDI unter  www.vdi.de/4645 vorgenommen und ist für jed
 ermann einsehbar.
LOCATION:Bildungsstätte Rudolstadt\, In der Schremsche 3\, 07407 Rudolsta
 dt\, Deutschland
END:VEVENT
END:VCALENDAR
